BEGIN:VCALENDAR
VERSION:2.0
PRODID:icalendar-ruby
CALSCALE:GREGORIAN
METHOD:PUBLISH
BEGIN:VEVENT
DTSTAMP:20260424T082104Z
UID:440-8195293@firstprescollingwood.com
DTSTART:20260624T150000Z
DTEND:20260624T160000Z
CLASS:PUBLIC
CREATED:20260422T150742
DESCRIPTION:Start Date: April 29.  Contact:  revaltonruff@gmail.com
LAST-MODIFIED:20260422T150742
LOCATION:Conference Room & Sanctuary
SUMMARY:Essential 100 Bible Readings
URL;VALUE=URI:https://www.firstprescollingwood.com/events/essential-100-bib
 le-readings/2026-06-24
ATTACH;FILENAME=E100_Old_Instagram.png;FMTTYPE=image/png:https://dq5pwpg1q8
 ru0.cloudfront.net/2026/04/22/19/07/07/24963dbc-345a-4897-8368-fe10a830aae
 6/E100_Old_Instagram.png
ATTACH;FILENAME=E100_New_Instagram.png;FMTTYPE=image/png:https://dq5pwpg1q8
 ru0.cloudfront.net/2026/04/22/19/07/42/e89ad8ce-d812-49bc-90a9-91a8b37c71b
 0/E100_New_Instagram.png
END:VEVENT
END:VCALENDAR
