BEGIN:VCALENDAR
VERSION:2.0
PRODID:icalendar-ruby
CALSCALE:GREGORIAN
METHOD:PUBLISH
BEGIN:VEVENT
DTSTAMP:20260424T064418Z
UID:404-8229147@firstprescollingwood.com
DTSTART:20261029T230000Z
DTEND:20261030T000000Z
CLASS:PUBLIC
CREATED:20260423T204758
DESCRIPTION:Choir Practice
LAST-MODIFIED:20260423T204758
LOCATION:Conference Room & Sanctuary
SUMMARY:Choir Practice
URL;VALUE=URI:https://www.firstprescollingwood.com/events/choir-practice--4
 03/2026-10-29
ATTACH;FILENAME=Choir Slide Aug 26.png;FMTTYPE=image/png:https://dq5pwpg1q8
 ru0.cloudfront.net/2025/08/26/13/43/42/e073bf29-8873-446a-870e-e68eb31da35
 a/Choir%20Slide%20Aug%2026.png
END:VEVENT
END:VCALENDAR
